BEGIN:VCALENDAR
VERSION:2.0
PRODID:-//wp-events-plugin.com//7.2.3.1//EN
BEGIN:VEVENT
UID:35@aicfb.in
DTSTART;VALUE=DATE:20180813
DTEND;VALUE=DATE:20180825
DTSTAMP:20180922T103756Z
URL:https://www.aicfb.in/events/10th-i-b-c-a-junior-women-chess-championsh
 ip-for-blind-and-visually-impaired-2018/
SUMMARY:10th I.B.C.A. Junior & Women Chess Championship for Blind and Visua
 lly Impaired 2018
DESCRIPTION:Venue:   Mineral Hotel Malinowy Raj\, Partyzantów 18A\, 28-1
 31 Solec Zdroj\, Poland.\n\nEvent Date:  13th August to 24th August 2018
 .\n\nOrganized By:  Association “Cross” of Poland under the aegis o
 f the International Braille Chess Association (IBCA).\n\nIndian Team to Pa
 rticipate:\n\n1)Soundarya Kumar Pradhan(Junior Category-Under 19).\n\n2) A
 ryan B Joshi(Junior Category- Under 19).\n\n3)Vaishali Salavakar(Women Cat
 egory).\n\n&nbsp\;\n\nCOACH AND HEAD OF THE DELEGATE:\n\nDr Charudatta Jad
 hav\n\n \n\nCOACH: Sagar Shah\n\nGUIDE: Amruta Mokal\n\n&nbsp\;\n\n&nbs
 p\;\n\n&nbsp\;
CATEGORIES:past events
END:VEVENT
END:VCALENDAR