BEGIN:VCALENDAR
VERSION:2.0
PRODID:-//wp-events-plugin.com//7.2.3.1//EN
BEGIN:VEVENT
UID:42@aicfb.in
DTSTART:20190405T000000Z
DTEND:20190415T000000Z
DTSTAMP:20190408T113231Z
URL:https://www.aicfb.in/events/14th-ibca-world-individual-chess-champions
 hip-for-blind-and-visually-impaired/
SUMMARY:14th IBCA World Individual Chess Championship for Blind and Visuall
 y Impaired
DESCRIPTION:14th IBCA World Individual Chess Championship for Blind and Vis
 ually Impaired 2019 will be held in Cagliari\, Italy from 5th to 15th Apri
 l 2019.\n\nThe Championship will be organized by Italian Blind Chess Assoc
 iation under the aegis of the International Braille Chess Association (IBC
 A). The venue of the event is  ‘4 Star Hotel Califfo\, Cagliari\, Italy
 ’.\n\nThe Indian chess players are selected on the basis of their perfor
 mance at National ‘A’ Chess Championship for the blind 2019 held at Na
 gpur\, Maharashtra. The list of participants is as follows\, (as per ranki
 ng).
ATTACH;FMTTYPE=image/jpeg:https://www.aicfb.in/wp-content/uploads/2019/02/
 first-board-Kishan-Gangoli-with-Tazbir-Marcin_Poland.jpeg
CATEGORIES:Ongoing events,Today events
LOCATION:Cagliari\, Italy\, 4 Star Hotel Califfo\, Cagliari\, Italy\, Cagli
 ari\, Italy\, Italy\, Italy
X-APPLE-STRUCTURED-LOCATION;VALUE=URI;X-ADDRESS=4 Star Hotel Califfo\, Cagl
 iari\, Italy\, Cagliari\, Italy\, Italy\, Italy;X-APPLE-RADIUS=100;X-TITLE
 =Cagliari\, Italy:geo:0,0
END:VEVENT
END:VCALENDAR