BEGIN:VCALENDAR
VERSION:2.0
PRODID:-//wp-events-plugin.com//7.2.3.1//EN
BEGIN:VEVENT
UID:40@aicfb.in
DTSTART:20190425T000000Z
DTEND:20190428T000000Z
DTSTAMP:20190213T031444Z
URL:https://www.aicfb.in/events/1st-goa-national-open-fide-rating-chess-to
 urnament-for-the-visually-challenged/
SUMMARY:1st Goa National Open Fide Rating Chess Tournament for the Visually
  challenged
DESCRIPTION:1st Goa National Open Fide Rating Chess Tournament for the Visu
 ally Challenged\, which will be held at Goa\, from 25th April to 28th Apri
 l\, 2019. This Tournament is being organized by Unique Chess Academy under
  the aegis of All India Chess Federation for the Blind (AICFB).\n\nVenue: 
 Someshwar Temple\, Hall Tilamol\, Quepem\, Goa
CATEGORIES:Forth coming events
LOCATION:GOA\, Someshwar Temple\, Hall Tilamol\, Quepem\, Goa\, Goa\, Goa\,
  India
X-APPLE-STRUCTURED-LOCATION;VALUE=URI;X-ADDRESS=Someshwar Temple\, Hall Til
 amol\, Quepem\, Goa\, Goa\, Goa\, India;X-APPLE-RADIUS=100;X-TITLE=GOA:geo
 :0,0
END:VEVENT
END:VCALENDAR