BEGIN:VCALENDAR
VERSION:2.0
PRODID:-//wp-events-plugin.com//7.2.3.1//EN
BEGIN:VEVENT
UID:23@aicfb.in
DTSTART;VALUE=DATE:20140601
DTEND;VALUE=DATE:20140606
DTSTAMP:20170103T101737Z
URL:https://www.aicfb.in/events/4th-india-open-fide-rating-chess-tournamen
 t-blind/
SUMMARY:4th All India open FIDE Rating Chess Tournament for the Blind\,
DESCRIPTION:allindiafideratingopenchesstournamentfortheblind-hydrabad_june2
 014-pdfrecovered
CATEGORIES:past events
LOCATION:devner school for the blind heydrabad\, heydrabad\, heydrabad\, he
 ydrabad\, 50016\, India
GEO:17.3758745;78.39356399999997
X-APPLE-STRUCTURED-LOCATION;VALUE=URI;X-ADDRESS=heydrabad\, heydrabad\, hey
 drabad\, 50016\, India;X-APPLE-RADIUS=100;X-TITLE=devner school for the bl
 ind heydrabad:geo:17.3758745,78.39356399999997
END:VEVENT
END:VCALENDAR