BEGIN:VCALENDAR
VERSION:2.0
PRODID:-//wp-events-plugin.com//7.2.3.1//EN
BEGIN:VEVENT
UID:34@aicfb.in
DTSTART;VALUE=DATE:20180720
DTEND;VALUE=DATE:20180801
DTSTAMP:20180723T122033Z
URL:https://www.aicfb.in/events/8th-ibca-world-team-chess-championship-for
 -visually-challenged-2018/
SUMMARY:8th IBCA World Team Chess Championship for Visually Challenged\, 20
 18.
DESCRIPTION:Indian Visually Challenged chess players team to participate in
  8th I.B.C.A World Team Chess Championship for Blind and Visually Impaired
  2018 held in Sofia\, Bulgaria from 20th July to 31st July\, 2018. The Cha
 mpionship has organized by Bulgarian Federation “Sports for Visually Imp
 aired” of Bulgaria under the aegis of the International Braille Chess As
 sociation (IBCA). The venue of the event is Hotel “MARINELA”\, Sofia (
 Bulgaria).\n\nPlayers: Kishan Gangolli\, Ashwin K Makwana\, Soundarya Ku
 mar Pradhan\, Aryan B Joshi\, Subhendu Kumar Patra. \n\nHead of the team
  and Captain: Dr Charudatta Jadhav\n\nCoach: IM Sagar Shah\n\n 
ATTACH;FMTTYPE=image/jpeg:https://www.aicfb.in/wp-content/uploads/2018/07/
 s6.jpg
CATEGORIES:Ongoing events
END:VEVENT
END:VCALENDAR