BEGIN:VCALENDAR
VERSION:2.0
PRODID:-//wp-events-plugin.com//7.2.3.1//EN
BEGIN:VEVENT
UID:37@aicfb.in
DTSTART;VALUE=DATE:20181114
DTEND;VALUE=DATE:20181119
DTSTAMP:20181117T101233Z
URL:https://www.aicfb.in/events/aicfb-national-b-chess-championship-for-th
 e-blind-2018/
SUMMARY:AICFB National B chess championship for the blind\, 2018
DESCRIPTION:                                                   
CATEGORIES:Ongoing events
LOCATION:Yaksh Mandir\, Near Gandhi Circle\, nadhapur Bhuj\, Katch Gujarat\
 , Yaksh Mandir\, Near Gandhi Circle\, nadhapur Bhuj\, Katch Gujarat\, Bhuj
 \, Gujarat\, India
X-APPLE-STRUCTURED-LOCATION;VALUE=URI;X-ADDRESS=Yaksh Mandir\, Near Gandhi 
 Circle\, nadhapur Bhuj\, Katch Gujarat\, Bhuj\, Gujarat\, India;X-APPLE-RA
 DIUS=100;X-TITLE=Yaksh Mandir\, Near Gandhi Circle\, nadhapur Bhuj\, Katch
  Gujarat:geo:0,0
END:VEVENT
END:VCALENDAR