BEGIN:VCALENDAR
VERSION:2.0
PRODID:-//wp-events-plugin.com//7.2.3.1//EN
BEGIN:VEVENT
UID:33@aicfb.in
DTSTART;VALUE=DATE:20180621
DTEND;VALUE=DATE:20180625
DTSTAMP:20180522T102419Z
URL:https://www.aicfb.in/events/aicfb-north-zone-chess-championship-for-th
 e-visually-challenged/
SUMMARY:AICFB North Zone Chess Championship for the Visually Challenged
DESCRIPTION:Event Venue : Government Institute for the Blind\, Panipat\, Ha
 ryana.\n\nEvent Date : 21st June- 24th June\, 2018.
CATEGORIES:Forth coming events
LOCATION:Government Institute for the Blind\, Panipat\, Haryana.\, Governme
 nt Institute for the Blind\, Panipat\, Haryana.\, Panipat\, Haryana\, Nort
 h\, India
X-APPLE-STRUCTURED-LOCATION;VALUE=URI;X-ADDRESS=Government Institute for th
 e Blind\, Panipat\, Haryana.\, Panipat\, Haryana\, North\, India;X-APPLE-R
 ADIUS=100;X-TITLE=Government Institute for the Blind\, Panipat\, Haryana.:
 geo:0,0
END:VEVENT
END:VCALENDAR