BEGIN:VCALENDAR
VERSION:2.0
PRODID:-//wp-events-plugin.com//7.2.3.1//EN
BEGIN:VEVENT
UID:36@aicfb.in
DTSTART;VALUE=DATE:20181006
DTEND;VALUE=DATE:20181014
DTSTAMP:20181003T174027Z
URL:https://www.aicfb.in/events/asian-paralympic-games-2018/
SUMMARY:Asian Paralympic Games\, 2018
DESCRIPTION:    Asian Paralympic Games\, 2018 at Jakarta Indonesia.\n&nbsp\
 ;
CATEGORIES:Forth coming events
END:VEVENT
END:VCALENDAR