BEGIN:VCALENDAR
VERSION:2.0
PRODID:-//wp-events-plugin.com//7.2.3.1//EN
BEGIN:VEVENT
UID:19@aicfb.in
DTSTART:20150217T090000Z
DTEND:20150221T160000Z
DTSTAMP:20170103T070333Z
URL:https://www.aicfb.in/events/circular-chess-tournament-blind-held-amrav
 ati/
SUMMARY:Circular- chess Tournament for the blind held in Amravati
DESCRIPTION:\nCircular\n \nBhartiya Andhjan Vikas & Punarwasan Sanstha (ADR
 BI\, Amravati\, Dist. Amravati (M..) has arranged the Open Chess Competiti
 on from 18" Feb. to 21/02/2015.\n\nVenue of the Competetion Agresan Bhavan
 \, Royali Plot\, Behind Rly Station\, Amravati\n\nThe competition will be 
 inaugurated on 18/02/2015 at 9.00 a.m. and will come to an end with prize 
 distribution ceremony on 21/02/2015 at 4.00 p.m.\n\nEvery participate will
  have to pay Rs. 100- and will be required to enroll before 22012015. Fill
  free to contact on NO. 9420421405 or Email ld – Shakinayak786agmail.com
 .\n\nThe lodging and boarding will be provided free of cost at the venue f
 rom the evening of the 17/02/2015 to 21/02/2015. Participant from the othe
 r states can reach via Nagpur or Bhusawal through Badnera Station at Amrav
 ati.\n\nPlease kindly cooperate us for the noble cause.\n****Wish you very
  Happy New Year**
CATEGORIES:past events
LOCATION:Agresan Bhavan\, Royali Plot\, Behind Rly Station\, Amravati\, Agr
 esan Bhavan\, Royali Plot\, Behind Rly Station\, Amravati\, Amravati\, Amr
 avati\, India
X-APPLE-STRUCTURED-LOCATION;VALUE=URI;X-ADDRESS=Agresan Bhavan\, Royali Plo
 t\, Behind Rly Station\, Amravati\, Amravati\, Amravati\, India;X-APPLE-RA
 DIUS=100;X-TITLE=Agresan Bhavan\, Royali Plot\, Behind Rly Station\, Amrav
 ati:geo:0,0
END:VEVENT
END:VCALENDAR