BEGIN:VCALENDAR
VERSION:2.0
PRODID:-//wp-events-plugin.com//7.2.3.1//EN
BEGIN:VEVENT
UID:10@aicfb.in
DTSTART;VALUE=DATE:20161021
DTEND;VALUE=DATE:20161024
DTSTAMP:20170103T070431Z
URL:https://www.aicfb.in/events/east-zone-selection-chess-tournament-visua
 lly-challenged-2016-west-bengal/
SUMMARY:East Zone Selection Chess Tournament for the Visually Challenged 20
 16\, West Bengal.
DESCRIPTION:Dear Chess Players\,\nWe are glad to inform you that you have b
 een invited to take part in East Zone Selection Chess Tournament for the V
 isually Challenged which will be held at West Bengal from 21 st October to
  23 rd October\,\n\n2016. This tournament is organized by Sri Chaitanya We
 lfare Society for the Disabled under the aegis of All India Chess Federati
 on for the Blind (AICFB). We take this opportunity to thank Sri Chaitanya 
 Welfare Society for the Disabled for their whole hearted support to AICFB 
 and chess for the blind as a whole. Venue - Brim Bhar (Sneha Shram) Dristi
 hin Vidyalaya\, P.O. - Madati\, Dist. – Darjeeling\, State - West Bengal
 \, Pin-734426.\n\nDetails of the Tournament:\n\n	Lodging & boarding will b
 e provided from 20th October (evening) to 24 th October (morning).\n	Top 2
 5 players will select for National ‘B’ Chess Championship.\n	Last Nati
 onal ‘A’ championship was held at Virar\, Maharashtra\, 2016 selected 
 players are not allowed to play zonal tournament\, and they are qualified 
 direct to play National ‘B’. National ‘B’ direct entry Rs. 8\,000/
 - and for those who have played zonal (West Bengal\, 2016) but not selecte
 d for National ‘B’ for them Rs. 2000/- donor fee. Escorts are not allo
 wed without prior approval\, Escorts accompanying players without approval
  has to pay (Rs 2\,500) for their lodging and boarding charges or make the
 ir own arrangements.\n	All players must pay AICFB annual registration fee 
 of Rs. 50/-. The players who have already paid these fees need not pay for
  this year but they have to produce the receipt for the same.\n	Tournament
  will be played on Swiss league basis according to FIDE & IBCA rules.\n	Fi
 nal function will be on 23 rd October evening\, attendance is compulsory.\
 n	All the players have to strictly follow the AICFB rules any miss conduct
  will not be tolerated.\n	Confirm your participation by sending E-mail and
  also inform by phone or SMS to organizers on or before 15 th October 2016
 .\n\nFor confirmation of the entry and any other information please contac
 t:\n1. Swapnil Shah – Cell: 9322870908\, (sms- type your name-rating-sta
 te).\n2. AICFB Clerk Nilesh Thul - Cell: 09773746705\, (sms- type your nam
 e-rating-state).\n3. Local Contact\, Principal Anastasia Roy- Cell: 078721
 99267\nRajkumar Bhagat – Cell: 08609484125.\nDeeptyajeet De – Cell: +9
 1 8276899152\nEmail: office@aicfb.in\, AICFB OFFICE Tel: 022-25790902
CATEGORIES:past events
LOCATION:West Bengal\, Brim Bhar (Sneha  Shram) Dristihin Vidyalaya\, P.O. 
 - Madati\, Dist. – Darjeeling\, State - West Bengal\, Pin-734426.\, Beng
 al\, West Bengal\, 734426\, India
GEO:22.9867569;87.85497550000002
X-APPLE-STRUCTURED-LOCATION;VALUE=URI;X-ADDRESS=Brim Bhar (Sneha  Shram) Dr
 istihin Vidyalaya\, P.O. - Madati\, Dist. – Darjeeling\, State - West Be
 ngal\, Pin-734426.\, Bengal\, West Bengal\, 734426\, India;X-APPLE-RADIUS=
 100;X-TITLE=West Bengal:geo:22.9867569,87.85497550000002
END:VEVENT
END:VCALENDAR