BEGIN:VCALENDAR
VERSION:2.0
PRODID:-//wp-events-plugin.com//7.2.3.1//EN
BEGIN:VEVENT
UID:12@aicfb.in
DTSTART;VALUE=DATE:20161110
DTEND;VALUE=DATE:20161114
DTSTAMP:20170103T070443Z
URL:https://www.aicfb.in/events/fide-rating-chess-tournament-blind-2016/
SUMMARY:FIDE Rating chess tournament for the Blind 2016.
DESCRIPTION:Dear Chess Player\,\n\nWe are glad to inform you that you have 
 been invited to take part in FIDE Rating Chess Tournament for the Blind wh
 ich will be held at Ahmadabad from 10 th November to 13th November 2016.Ve
 nue: - Blind People’s Association\,Dr. Jagdish Patel Chowk\,Vastrapur\, 
 Ahmedabad-380015 this tournament is organized by Gujarat Chess Association
  for the Visually Challenged. We take this opportunity to thank Gujarat Ch
 ess Association for their whole Hearted support to AICFB and chess for the
  Visually Challenge as a whole.\n\nDetails of the Tournament:\n\n\n	Lodgin
 g & boarding will be provided from 9th November 2016 evening to 14th Novem
 ber 2016 morning\n	Total prize money of the tournament is Rs 50\,000/-\n	A
 ll players have to bring their own equipment for writing the game. Writing
  of game is compulsory.\n	Escorts are not allowed without prior approval\,
  Escorts accompanying players without approval has to pay Rs 2\,000 /- for
  their lodging and boarding charges or make their own arrangements.\n	Tour
 nament will be played on Swiss league basis according to FIDE & IBCA rules
 .\n	Final function will be on 13th November 2016 evening\, attendance is c
 ompulsory.\n	All the players have to strictly follow the AICFB rules any m
 iss conduct will not be tolerated.\n	Confirm your participation by sending
  E mail and also inform by phone or SMS to organizers on or before 31st Oc
 tober 2016. Please note: The entries are limited. The confirmation of the 
 entries will be done on bases of players past performance. Confirmation of
  entry is the sole rite of AICFB. If any player after confirmation of thei
 r entry is not able to participate due to genuine reason should inform AIC
 FB else they are libel for disciplinary action.\n\n\nFor confirmation of t
 he entry and any other information please contact:\n\n1. AICFB New Clerk N
 ilesh Thul - Cell: 09773746705\, (sms- type your name-rating-state)\nEmail
 : office@aicfb.in\, aicfb.in@gmail.com\nAICFB OFFICE Address – K-9/121\,
  Prabhat Building\, First floor\, MMRDA Colony\, Station Road\,\nKanjurmar
 g(W)\nTel: 022-25790902
CATEGORIES:past events
LOCATION:Blind  People’s Association\,Dr. Jagdish Patel Chowk\,Vastrapur\
 , Ahmedabad-380015\, Blind  People’s Association\,Ahmedabad\, Ahmedabad\
 , gujarat \, 380015\, India
X-APPLE-STRUCTURED-LOCATION;VALUE=URI;X-ADDRESS=Blind  People’s Associati
 on\,Ahmedabad\, Ahmedabad\, gujarat \, 380015\, India;X-APPLE-RADIUS=100;X
 -TITLE=Blind  People’s Association\,Dr. Jagdish Patel Chowk\,Vastrapur\,
  Ahmedabad-380015:geo:0,0
END:VEVENT
END:VCALENDAR