BEGIN:VCALENDAR
VERSION:2.0
PRODID:-//wp-events-plugin.com//7.2.3.1//EN
BEGIN:VEVENT
UID:8@aicfb.in
DTSTART;VALUE=DATE:20170323
DTEND;VALUE=DATE:20170402
DTSTAMP:20170328T051614Z
URL:https://www.aicfb.in/events/ibca-asia-pacific-chess-championship-visua
 lly-challenged-2017/
SUMMARY:IBCA Asia Pacific Chess Championship for Visually Challenged\, 2017
DESCRIPTION:International Braille Chess Association (IBCA) www.ibca-info.or
 g and All India Chess Federation For The Blind (AICFB) www.aicfb.in are gl
 ad to inform you that the IBCA Asia Pacific Chess Championship for the Vis
 ually Challenged\, 2017 will take place in ‘Manipal University ’ Manip
 al\, India from 22nd March to 31st March 2017.\nThe Championship starts fr
 om 23rd March 2017 at 9:00 AM.\n\n 	Live Updates\n 	Audio Commentary  whic
 h is from 11:00 to 13:00 IST\n 	Schedule of the Championship\n 	Inaugurati
 on Photos\n 	Press Release and Photos - Round 1\nPairings - Round 1\nPairi
 ngs - Round 2\nPairings - Round 3\nPairings - Round 4\nPairings - Round 5\
 n 	Rankings after Round 1\n 	Rankings after Round 2\n 	Rankings after Roun
 d 3\n 	Rankings after Round 4\n 	Round-1 Photos\n 	Round-2 Photos\n 	Round
 -3 Photos\n 	Round-4 Photos\n 	\n\n
CATEGORIES:Ongoing events,Today events
LOCATION:Manipal University\, Manipal\, Manipal University\, Manipal\, Mani
 pal\, India
X-APPLE-STRUCTURED-LOCATION;VALUE=URI;X-ADDRESS=Manipal University\, Manipa
 l\, Manipal\, India;X-APPLE-RADIUS=100;X-TITLE=Manipal University\, Manipa
 l:geo:0,0
END:VEVENT
END:VCALENDAR