BEGIN:VCALENDAR
VERSION:2.0
PRODID:-//wp-events-plugin.com//7.2.3.1//EN
BEGIN:VEVENT
UID:13@aicfb.in
DTSTART;VALUE=DATE:20161001
DTEND;VALUE=DATE:20161006
DTSTAMP:20170103T070420Z
URL:https://www.aicfb.in/events/idl-national-open-fide-rating-chess-tourna
 ment-visually-challenge-2016-bangalore/
SUMMARY:IDL National Open FIDE Rating Chess Tournament for the visually Cha
 llenge 2016 Bangalore.
DESCRIPTION:Dear Chess Player\,\nWe are glad to inform you that you have be
 en invited to take part in IDL National Open FIDE Rating Chess Tournament 
 for the Visually Challenge which will be held at Bangalore from 1 st Octob
 er to 5 th October 2016. Venue: - NGO Hall\, Cubbon Park\, Opp. Vidhanasou
 dha\, Bangalore-1 this tournament is organized by IDL Foundation under the
  aegis of All India Chess Federation for the Blind (AICFB). We take this o
 pportunity to thank IDL Foundation for their whole Hearted support to AICF
 B and chess for the Visually Challenge as a whole.\n\nDetails of the Tourn
 ament:\n\n	Lodging & boarding will be provided from 30th September 2016 ev
 ening to 6 th October 2016 morning\n	Total prize money of the tournament i
 s Rs 1\,00\,000/-\n	All players have to bring their own equipment for writ
 ing the game. Writing of game is compulsory.\n	Escorts are not allowed wit
 hout prior approval\, Escorts accompanying players without approval has to
  pay Rs 2\,000 /- for their lodging and boarding charges or make their own
  arrangements.\n	Tournament will be played on Swiss league basis according
  to FIDE & IBCA rules.\n	 Final function will be on 5 th October 2016 even
 ing\, attendance is compulsory.\n	All the players have to strictly follow 
 the AICFB rules any miss conduct will not be tolerated.\n	Confirm your par
 ticipation by sending E mail and also inform by phone or SMS to organizers
  on or before 20th September 2016. Please note: The entries are limited. T
 he confirmation of the entries will be done on bases of players past perfo
 rmance. Confirmation of entry is the sole rite of AICFB. If any player aft
 er confirmation of their entry is not able to participate due to genuine r
 eason should inform AICFB else they are libel for disciplinary action.\n
CATEGORIES:past events
LOCATION:NGO Hall\, Cubbon Park\, Opp. Vidhanasoudha\, Bangalore-1\, NGO Ha
 ll\, Cubbon Park\, Opp. Vidhanasoudha\, Bangalore-1\, Bangalore\, Bangalor
 e\, India
X-APPLE-STRUCTURED-LOCATION;VALUE=URI;X-ADDRESS=NGO Hall\, Cubbon Park\, Op
 p. Vidhanasoudha\, Bangalore-1\, Bangalore\, Bangalore\, India;X-APPLE-RAD
 IUS=100;X-TITLE=NGO Hall\, Cubbon Park\, Opp. Vidhanasoudha\, Bangalore-1:
 geo:0,0
END:VEVENT
END:VCALENDAR