BEGIN:VCALENDAR
VERSION:2.0
PRODID:-//wp-events-plugin.com//7.2.3.1//EN
BEGIN:VEVENT
UID:45@aicfb.in
DTSTART;TZID=Asia/Kolkata:20191218T110000
DTEND;TZID=Asia/Kolkata:20191221T180000
DTSTAMP:20191218T173159Z
URL:https://www.aicfb.in/events/indusind-bank-presents-national-school-che
 ss-championship/
SUMMARY:IndusInd Bank Presents National School Chess Championship
DESCRIPTION:‘IndusInd Bank presents National School Chess Championship fo
 r the Blind’ organized by the All India Chess Federation for the Blind (
 AICFB)\nOver 200 participants from 16 states in the age group of 7 to 18 y
 ears – including over 70 girls - representing 35 different schools and i
 nstitutes. There will be 65 prizes for five categories - Under-10\, Under-
 12\, Under-14\, Under-16 and the Rest – and one National School Trophy.
   The Championship is being held at Fruitwala Dharamshala\, at close pro
 ximity to the ‘samadhi’ of Maharashtra’s most favorite saint\, Sant 
 Dnyaneshwar from December 18th to 21st 2019 at Alandi\, near Pune.  This
  initiative is supported by IndusInd Bank Ltd.\n Check out the Story on I
 nstagram\n
ATTACH;FMTTYPE=image/jpeg:https://www.aicfb.in/wp-content/uploads/2019/12/
 IMG201912181127281-scaled.jpg
CATEGORIES:Ongoing events
LOCATION:Pune\, Venue of Tournament: Fruit wale Dharmshala\, Nagar Parishad
  Road\, Next to Alandi Post Office\, Alandi Devachi\, Pune.\, Pune\, Mahar
 ashtra\, Pune\, India
X-APPLE-STRUCTURED-LOCATION;VALUE=URI;X-ADDRESS=Venue of Tournament: Fruit 
 wale Dharmshala\, Nagar Parishad Road\, Next to Alandi Post Office\, Aland
 i Devachi\, Pune.\, Pune\, Maharashtra\, Pune\, India;X-APPLE-RADIUS=100;X
 -TITLE=Pune:geo:0,0
END:VEVENT
BEGIN:VTIMEZONE
TZID:Asia/Kolkata
X-LIC-LOCATION:Asia/Kolkata
BEGIN:STANDARD
DTSTART:20181218T110000
TZOFFSETFROM:+0530
TZOFFSETTO:+0530
TZNAME:IST
END:STANDARD
END:VTIMEZONE
END:VCALENDAR