BEGIN:VCALENDAR
VERSION:2.0
PRODID:-//wp-events-plugin.com//7.2.3.1//EN
BEGIN:VEVENT
UID:24@aicfb.in
DTSTART;VALUE=DATE:20170126
DTEND;VALUE=DATE:20170131
DTSTAMP:20170127T123741Z
URL:https://www.aicfb.in/events/national-b-chess-championship-fide-rating-
 visually-challenged-2017/
SUMMARY:National B Chess Championship FIDE Rating for Visually challenged 2
 017
DESCRIPTION:Follow this link for the results - http://www.chess-results.co
 m/tnr260316.aspx?lan=1
CATEGORIES:Ongoing events,Today events
LOCATION:Kolkata\, 36C\, B T Road\, Kolkata\, West Bengal\, India
X-APPLE-STRUCTURED-LOCATION;VALUE=URI;X-ADDRESS=36C\, B T Road\, Kolkata\, 
 West Bengal\, India;X-APPLE-RADIUS=100;X-TITLE=Kolkata:geo:0,0
END:VEVENT
END:VCALENDAR