BEGIN:VCALENDAR
VERSION:2.0
PRODID:-//wp-events-plugin.com//7.2.3.1//EN
BEGIN:VEVENT
UID:32@aicfb.in
DTSTART;VALUE=DATE:20180726
DTEND;VALUE=DATE:20180730
DTSTAMP:20180522T070358Z
URL:https://www.aicfb.in/events/national-fide-rating-chess-tournament-for-
 the-visually-challenged-at-wardha/
SUMMARY:Rescheduled National FIDE Rating Chess Tournament for the Visually 
 Challenged at Wardha.
DESCRIPTION:The date of National FIDE Rating Chess Tournament for the Visua
 lly Challenged was to be held from 27-30th June\, 2918  at Wardha has bee
 n rescheduled.  The rescheduled Tournament will be held from 26th July to
  29th July\, 2018.\n\nDate of the Tournament : 26th July to 29th July\, 20
 28\n\nVenue of the Tournament :  Bachhraj Dharmashala\, Shashtri Chowk\,
  Station Road\, Wardha\, Maharashtra\, 442001.
CATEGORIES:Forth coming events
LOCATION:Bachhraj Dharmashala\, Shashtri Chowk\, Station Road\, Wardha\, Ma
 harashtra.\, Bachhraj Dharmashala\, Shastri Chowk\, Station Road\, Wardha\
 , Maharashtra- 442001.\, Wardha\, Maharashtra\, 442001\, India
X-APPLE-STRUCTURED-LOCATION;VALUE=URI;X-ADDRESS=Bachhraj Dharmashala\, Shas
 tri Chowk\, Station Road\, Wardha\, Maharashtra- 442001.\, Wardha\, Mahara
 shtra\, 442001\, India;X-APPLE-RADIUS=100;X-TITLE=Bachhraj Dharmashala\, S
 hashtri Chowk\, Station Road\, Wardha\, Maharashtra.:geo:0,0
END:VEVENT
END:VCALENDAR