BEGIN:VCALENDAR
VERSION:2.0
PRODID:-//wp-events-plugin.com//7.2.3.1//EN
BEGIN:VEVENT
UID:20@aicfb.in
DTSTART;VALUE=DATE:20150128
DTEND;VALUE=DATE:20150304
DTSTAMP:20170103T070340Z
URL:https://www.aicfb.in/events/national-open-fide-rating-chess-tournament
 -blind/
SUMMARY:National Open Fide Rating Chess Tournament for the Blind
DESCRIPTION: \nDear Chess Players\,\n\nWish you all a very happy & prospero
 us NEW YEAR. We are glad to inform you that you have been invited Nagercoi
 l\,Tamilnadu to take part in From National 28 th\nFebruary Open Fide to ra
 ting 3 rd March Chess 2015.Venu:.Rotary tournament for the Community blind
  which Hall\, will Opposite be held to at\nCollector office\, Nagercoil\,T
 amilnadu. This tournament will be Jointly Organized by Tamil Nadu Braille 
 Chess Association & Rotary Club of Nagercoil Central and Rotary Club of We
 st Nagercoil in association with Kanyakumari District Chess association an
 d will be Supported by Rotary International District 3212 to which Rotary 
 Club of Nagercoil Central and Rotary Club of West Nagercoil belongs to und
 er the ages of All India Chess Federation for the Blind (AICFB).\n\nDetail
 s of the tournament:\n\n	Lodging & boarding will be provided from 27 th Fe
 bruary 2015 evening to 4th March 2015 morning\n	Total prize money of the t
 ournament is Rs. 45\,000/- (25 Prizes) and 3 Trophies.\n	All players have 
 to bring their own equipment for writing the game. Writing of game is comp
 ulsory. \n	Escorts are not allowed without prior approval\, Escorts accomp
 anying players without approval has to pay Rs 2\,000 /- for their lodging 
 and boarding charges or make their own arrangements. \n	All players must p
 ay AICFB annual registration fee of Rs. 50/- and pay Rs. 250 annual regist
 ration fee of AICF. Both above mention registration fees are annual in nat
 ure has to pay once in a financial year. After paying these registration f
 ees\, Players will have benefit to play as many tournaments in sighted and
  blind with out paying registration fee in this financial year. The player
 s who have already paid these fees need not pay for this year but they hav
 e to produce the receipt for the same.\n	Tournament Final function will wi
 ll be be played on 3 rd on March Swiss 2015 league evening\, basis attenda
 nce according to is FIDE & IBCA rules.\ncompulsory.\n	All the players have
  to strictly follow the AICFB rules any miss conduct will not be tolerated
 .\n	Confirm your participation by sending name post\, E mail and also info
 rm by phone or SMS Date to organizers of Birth on &State before attached 2
 0 th February form duly 2015.\n
CATEGORIES:past events
LOCATION:Rotary tournament for the Community blind which Hall\, will Opposi
 te be held to at Collector office\, Nagercoil\,Tamilnadu.\, Rotary tournam
 ent for the Community blind which Hall\, will Opposite be held to at Colle
 ctor office\, Nagercoil\,Tamilnadu.\, Tamilnadu\, Tamilnadu\, India
X-APPLE-STRUCTURED-LOCATION;VALUE=URI;X-ADDRESS=Rotary tournament for the C
 ommunity blind which Hall\, will Opposite be held to at Collector office\,
  Nagercoil\,Tamilnadu.\, Tamilnadu\, Tamilnadu\, India;X-APPLE-RADIUS=100;
 X-TITLE=Rotary tournament for the Community blind which Hall\, will Opposi
 te be held to at Collector office\, Nagercoil\,Tamilnadu.:geo:0,0
END:VEVENT
END:VCALENDAR