BEGIN:VCALENDAR
VERSION:2.0
PRODID:-//wp-events-plugin.com//7.2.3.1//EN
BEGIN:VEVENT
UID:11@aicfb.in
DTSTART;VALUE=DATE:20161122
DTEND;VALUE=DATE:20161127
DTSTAMP:20170103T070453Z
URL:https://www.aicfb.in/events/national-school-chess-championship-visuall
 y-challenged-2016-shirdi/
SUMMARY:National School Chess Championship for the Visually Challenged - 20
 16 - Shirdi.
DESCRIPTION:We are glad to inform you that All India Chess Federation for t
 he Blind (AICFB) organizing National School Chess Championship for the Vis
 ually Challenged\, 2016. This championship will be held in Sai Palkhi Niwa
 ra Nagar Manmad Road Nimgaon Nigoj Shiradi\, Maharashtra\, from 22nd Novem
 ber to 26th November\, 2016. This Championship is organized by All India C
 hess Federation for the Blind (AICFB) jointly organized with OM SAI RAM Tr
 ust.\n\n
CATEGORIES:past events
LOCATION:Sai Palkhi Niwara Nagar Manmad Road Nimgaon Nigoj Shiradi\, Mahara
 shtra\, Manmad Road Nimgaon Nigoj Shiradi\, Maharashtra\, Maharashtra\, Ma
 harashtra\, India
GEO:19.7856585;74.4684446
X-APPLE-STRUCTURED-LOCATION;VALUE=URI;X-ADDRESS=Manmad Road Nimgaon Nigoj S
 hiradi\, Maharashtra\, Maharashtra\, Maharashtra\, India;X-APPLE-RADIUS=10
 0;X-TITLE=Sai Palkhi Niwara Nagar Manmad Road Nimgaon Nigoj Shiradi\, Maha
 rashtra:geo:19.7856585,74.4684446
END:VEVENT
END:VCALENDAR