BEGIN:VCALENDAR
VERSION:2.0
PRODID:-//wp-events-plugin.com//7.2.3.1//EN
BEGIN:VEVENT
UID:15@aicfb.in
DTSTART;VALUE=DATE:20161126
DTEND;VALUE=DATE:20161130
DTSTAMP:20170103T070503Z
URL:https://www.aicfb.in/events/south-zone-selection-chess-tournamentalawa
 ye-rly-stationnear-ernalkukam/
SUMMARY:South Zone Selection chess tournament\,Alawaye (RLY Station)Near Er
 nalkukam\,
DESCRIPTION:Dear Chess players\,\nWe are glad to inform you that you have b
 een invited to take part in South Zone Selection Chess tournament for the 
 blind which will be held at Alawaye\,Near ernakulam from 27 th November to
  29th November\, 2015.) under the aegis of All India Chess Federation for 
 the Blind (AICFB).. Venue . Alawaye( rly staion)\,Near ernakulam\, Kerla\n
 \nDetails of the tournament:\nLodging & boarding will be provided from 26t
 h November (evening) to 30th November\, 2015(morning).\n\n \n 	Top 25 male
 s & five females players will be select to take part for National ‘B’ 
 Chess Championship from 26 th December to 30 th december2015 at\,udpi\,Nea
 r Manglore\,Karnataka..\n 	Last National ‘A’ championship was held at 
 Vasai Maharashtra\, 2014\,selected players are not allowed to play zonal t
 ournament\, and they are qualified direct to play National ‘B’. Donar 
 entry for National ‘B’ Rs. 8\,000/- and for those who wil played south
  zone at kerla but not selected for National ‘B’ for them Rs. 2000/- d
 onor fee. Escorts are not allowed without prior approval\, Escorts accompa
 nying players without approval has to pay (Rs 2\,500) for their lodging an
 d boarding charges or make their own arrangements.\n 	All players must pay
  AICFB annual registration fee of Rs. 50/-. The players who have already p
 aid these fees need not pay for this year but they have to produce the rec
 eipt for the same.\n 	Tournament will be played on Swiss league basis acco
 rding to FIDE & IBCA rules.\n 	Final function will be on 29 nd November ev
 ening\, attendance is compulsory.\n 	All the players have to strictly foll
 ow the AICFB rules any miss conduct will not be tolerated.\n 	Confirm your
  participation by sending E-mail and also inform by phone or SMS to organi
 zers on or before 25th November 2015.\n \n\nFor confirmation of the entry 
 and any other information please contact:\nContact Mr Ageshkumar 099950444
 15 on sms your entries with rating.
CATEGORIES:past events
LOCATION:Alawaye( rly staion)\,Near ernakulam\, Kerla\, Alawaye( rly staion
 )\,Near ernakulam\, Kerla\, Kerla\, Kerla\, India
GEO:10.1070009;76.35601109999993
X-APPLE-STRUCTURED-LOCATION;VALUE=URI;X-ADDRESS=Alawaye( rly staion)\,Near 
 ernakulam\, Kerla\, Kerla\, Kerla\, India;X-APPLE-RADIUS=100;X-TITLE=Alawa
 ye( rly staion)\,Near ernakulam\, Kerla:geo:10.1070009,76.35601109999993
END:VEVENT
END:VCALENDAR