BEGIN:VCALENDAR
VERSION:2.0
PRODID:-//wp-events-plugin.com//7.2.3.1//EN
BEGIN:VEVENT
UID:43@aicfb.in
DTSTART;TZID=Asia/Kolkata:20190823T000000
DTEND;TZID=Asia/Kolkata:20190825T000000
DTSTAMP:20190823T110606Z
URL:https://www.aicfb.in/events/state-level-open-chess-tournament-for-blin
 d-and-visually-impaired-2019-at-alandi-pune-from-23rd-august-to-25th-augus
 t-2019/
SUMMARY:State level Open Chess Tournament for Blind and Visually Impaired 2
 019 at Alandi Pune  from 23rd August to 25th August 2019
DESCRIPTION:The dates of the tournament are 23rd August to 25th August 2019
 . This Tournament is organized by All Marathi Chess Association for Visual
 ly Challenged under the aegis of All India Chess Federation For The Blind.
 \n\nVenue of Tournament: Fruit wale Dharmshala\, Nagar Parishad Road\, Nex
 t to Alandi Post Office\, Alandi Devachi\, Pune.
CATEGORIES:Ongoing events
LOCATION:Pune\, Venue of Tournament: Fruit wale Dharmshala\, Nagar Parishad
  Road\, Next to Alandi Post Office\, Alandi Devachi\, Pune.\, Pune\, Mahar
 ashtra\, Pune\, India
X-APPLE-STRUCTURED-LOCATION;VALUE=URI;X-ADDRESS=Venue of Tournament: Fruit 
 wale Dharmshala\, Nagar Parishad Road\, Next to Alandi Post Office\, Aland
 i Devachi\, Pune.\, Pune\, Maharashtra\, Pune\, India;X-APPLE-RADIUS=100;X
 -TITLE=Pune:geo:0,0
END:VEVENT
BEGIN:VTIMEZONE
TZID:Asia/Kolkata
X-LIC-LOCATION:Asia/Kolkata
BEGIN:STANDARD
DTSTART:20180823T000000
TZOFFSETFROM:+0530
TZOFFSETTO:+0530
TZNAME:IST
END:STANDARD
END:VTIMEZONE
END:VCALENDAR