BEGIN:VCALENDAR
VERSION:2.0
PRODID:-//wp-events-plugin.com//7.2.3.1//EN
BEGIN:VEVENT
UID:9@aicfb.in
DTSTART;VALUE=DATE:20161209
DTEND;VALUE=DATE:20161213
DTSTAMP:20170102T092157Z
URL:https://www.aicfb.in/events/west-zone-selection-chess-tournament-visua
 lly-challenged-2016/
SUMMARY:West Zone Selection Chess Tournament for the Visually Challenged 20
 16
DESCRIPTION:We are glad to inform you that you have been invited to take pa
 rt in West Zone Selection Chess Tournament for the Visually Challenged whi
 ch will be held at Amravati from 9th December to 12th December\, 2016.\nTh
 is tournament is organized by Bharatiya Andhajan Vikas & Punarwasan Sansth
 a (ADRBI) under the aegis of all India Chess Federation for the Blind (AIC
 FB). We take this opportunity to thank Bharatiya Andhajan Vikas & Punarwas
 an Sanstha (ADRBI) for their whole hearted support to AICFB and chess for 
 the blind as a whole. \nVenue: Tompe College Chandurbazar\, Amaravati Road
 \, Taluka-Chandurbazar\, District-Amravati\\\n\nDetails of the Tournament:
 \n\n \n 	Lodging & boarding will be provided from 8th December (evening) t
 o 13th December (morning).\n 	Top 25 players will select for National ‘B
 ’ Chess Championship.\n 	Last National ‘A’ championship was held at 
 Virar\, Maharashtra\, 2016 selected players are not allowed to play zonal 
 tournament\, and they are qualified direct to play National ‘B’. Natio
 nal ‘B’ direct entry Rs. 8\,000/- and for those who have played zonal 
 (Amravati\, 2016) but not selected for National ‘B’ for them Rs. 2000/
 - donor fee. Escorts are not allowed without prior approval\, Escorts acco
 mpanying players without approval has to pay (Rs 2\,500) for their lodging
  and boarding charges or make their own arrangements.\n 	All players must 
 pay AICFB annual registration fee of Rs. 50/-. The players who have alread
 y paid these fees need not pay for this year but they have to produce the 
 receipt for the same.\n 	Tournament will be played on Swiss league basis a
 ccording to FIDE & IBCA rules.\n 	Final function will be on 12th December 
 evening\, attendance is compulsory.\n 	All the players have to strictly fo
 llow the AICFB rules any miss conduct will not be tolerated.\n 	Confirm yo
 ur participation by sending E-mail and also inform by phone or SMS to orga
 nizers on or before 30th November 2016.\n \n\nFor confirmation of the entr
 y and any other information please contact:\n1. Swapnil Shah – Cell: 932
 2870908\, (sms- type your name-rating-state).\n2. AICFB Clerk Nilesh Thul 
 - Cell: 09773746705\, (sms- type your name-rating-state).\nEmail: office@a
 icfb.in\, AICFB OFFICE Tel: 022-25790902.\n3. Local Contact – Shakir Nay
 ak – Cell: 09420421405\nKiran Chaure – Cell: 09323136855\n\n
LOCATION:Amravati\, Maharashtra.\, Amravati\, Maharashtra.\, Amravati\, Mah
 arashtra\, India
GEO:20.9374238;77.77955129999998
X-APPLE-STRUCTURED-LOCATION;VALUE=URI;X-ADDRESS=Amravati\, Maharashtra.\, A
 mravati\, Maharashtra\, India;X-APPLE-RADIUS=100;X-TITLE=Amravati\, Mahara
 shtra.:geo:20.9374238,77.77955129999998
END:VEVENT
END:VCALENDAR