BEGIN:VCALENDAR
VERSION:2.0
PRODID:-//wp-events-plugin.com//7.2.3.1//EN
BEGIN:VEVENT
UID:17@aicfb.in
DTSTART;VALUE=DATE:20161120
DTEND;VALUE=DATE:20161123
DTSTAMP:20170102T103507Z
URL:https://www.aicfb.in/events/west-zone-selection-chess-tournament/
SUMMARY:West Zone Selection chess tournament\,
DESCRIPTION:Dear Chess players\,\n\nWe are glad to inform you that you have
  been invited to take part in West Zone Selection Chess tournament for the
  blind which will be held at Ahmadabad\, Gujarat from 20 th November to 22
  nd November\, 2015. This tournament is organized by Gujarat Chess Associa
 tion for The Visually Challenged (GCAVC) under the aegis of All India Ches
 s Federation for the Blind (AICFB). We take this opportunity to thank Guja
 rat Chess Association For TheVisually Challenged (GCAVC) for their whole H
 earted support to AICFB and chess for the blind as a whole. Venue B.P.A.\,
 Dr.Jagdish Patel Chowk\, Near I.M. Vastrapur\, Ahmadabad\, Gujrat-380015 .
 \n\nDetails of the tournament:\nLodging &amp\; boarding will be provided f
 rom 19 th November (evening) to 23 rd November\, 2015(morning).\n\n\n	Top 
 20 players will select for National ‘B’ Chess Championship.\n	Last Nat
 ional ‘A’ championship was held at Vasai Maharashtra\, 2014 selected p
 layers are not allowed to play zonal tournament\, and they are qualified d
 irect to play National ‘B’. National ‘B’ direct entry Rs. 8\,000/-
  and for those who have played zonal (West In Ahmadabad\, 2015) but not se
 lected for National ‘B’ for them Rs. 2000/- donor fee. Escorts are not
  allowed without prior approval\, Escorts accompanying players without app
 roval has to pay (Rs 2\,500) for their lodging and boarding charges or mak
 e their own arrangements.\n	All players must pay AICFB annual registration
  fee of Rs. 50/-. The players who have already paid these fees need not pa
 y for this year but they have to produce the receipt for the same.\n	Tourn
 ament will be played on Swiss league basis according to FIDE &amp\; IBCA r
 ules.\n	Final function will be on 22 nd November evening\, attendance is c
 ompulsory.\n	All the players have to strictly follow the AICFB rules any m
 iss conduct will not be tolerated.\n	Confirm your participation by sending
  E-mail and also inform by phone or SMS to organizers on or before 10 th N
 ovember 2015.\n\n
LOCATION:B.P.A.\,Dr.Jagdish Patel Chowk\, Near I.M. Vastrapur\, Ahmadabad\,
 \, B.P.A.\,Dr.Jagdish Patel Chowk\, Near I.M. Vastrapur\, Ahmadabad\, \, A
 hmadabad\, Gujrat\, 380015\, India
GEO:23.024349;72.53015210000001
X-APPLE-STRUCTURED-LOCATION;VALUE=URI;X-ADDRESS=B.P.A.\,Dr.Jagdish Patel Ch
 owk\, Near I.M. Vastrapur\, Ahmadabad\, \, Ahmadabad\, Gujrat\, 380015\, I
 ndia;X-APPLE-RADIUS=100;X-TITLE=B.P.A.\,Dr.Jagdish Patel Chowk\, Near I.M.
  Vastrapur\, Ahmadabad\,:geo:23.024349,72.53015210000001
END:VEVENT
END:VCALENDAR